BEGIN:VCALENDAR
VERSION:2.0
PRODID:-//Harvest Christian Assembly - ECPv6.5.1.5//NONSGML v1.0//EN
CALSCALE:GREGORIAN
METHOD:PUBLISH
X-WR-CALNAME:Harvest Christian Assembly
X-ORIGINAL-URL:https://harvestca.duckdns.org
X-WR-CALDESC:Events for Harvest Christian Assembly
REFRESH-INTERVAL;VALUE=DURATION:PT1H
X-Robots-Tag:noindex
X-PUBLISHED-TTL:PT1H
BEGIN:VTIMEZONE
TZID:America/Los_Angeles
BEGIN:DAYLIGHT
TZOFFSETFROM:-0800
TZOFFSETTO:-0700
TZNAME:PDT
DTSTART:20240310T100000
END:DAYLIGHT
BEGIN:STANDARD
TZOFFSETFROM:-0700
TZOFFSETTO:-0800
TZNAME:PST
DTSTART:20241103T090000
END:STANDARD
END:VTIMEZONE
BEGIN:VEVENT
DTSTART;TZID=America/Los_Angeles:20241117T180000
DTEND;TZID=America/Los_Angeles:20241117T190000
DTSTAMP:20260425T213601
CREATED:20231009T050348Z
LAST-MODIFIED:20231009T050348Z
UID:3559-1731866400-1731870000@harvestca.duckdns.org
SUMMARY:Sunday Evening Service 6:00pm
DESCRIPTION:Starts at 6:00 PM.
URL:https://harvestca.duckdns.org/event/sunday-evening-service-600pm-123/
LOCATION:Main Campus\, 227 S Main St\, Myrtle Creek\, OR\, 97457\, United States
CATEGORIES:Sunday Eventing Service
END:VEVENT
BEGIN:VEVENT
DTSTART;TZID=America/Los_Angeles:20241117T100000
DTEND;TZID=America/Los_Angeles:20241117T120000
DTSTAMP:20260425T213601
CREATED:20231009T050348Z
LAST-MODIFIED:20231009T050348Z
UID:3560-1731837600-1731844800@harvestca.duckdns.org
SUMMARY:Sunday Service 10:00am
DESCRIPTION:Prayer Room open from 8:30 AM to 9:30 AM. Worship Service starts at 10:00 AM. Third Sunday of the month is Communion Sunday.
URL:https://harvestca.duckdns.org/event/sunday-service-1000am-124/
LOCATION:Main Campus\, 227 S Main St\, Myrtle Creek\, OR\, 97457\, United States
CATEGORIES:Sunday Service
END:VEVENT
BEGIN:VEVENT
DTSTART;TZID=America/Los_Angeles:20241115T183000
DTEND;TZID=America/Los_Angeles:20241115T193000
DTSTAMP:20260425T213601
CREATED:20231009T050343Z
LAST-MODIFIED:20240428T155734Z
UID:3558-1731695400-1731699000@harvestca.duckdns.org
SUMMARY:For Men Only 6:30pm
DESCRIPTION:Men’s Bible Study
URL:https://harvestca.duckdns.org/event/for-men-only-630pm-67/
LOCATION:Main Campus\, 227 S Main St\, Myrtle Creek\, OR\, 97457\, United States
CATEGORIES:Men’s Meeting
END:VEVENT
BEGIN:VEVENT
DTSTART;TZID=America/Los_Angeles:20241114T100000
DTEND;TZID=America/Los_Angeles:20241114T110000
DTSTAMP:20260425T213601
CREATED:20231009T050343Z
LAST-MODIFIED:20231009T050343Z
UID:3557-1731578400-1731582000@harvestca.duckdns.org
SUMMARY:Woman’s Meeting 10:00am
DESCRIPTION:Woman 2 Woman Bible Study
URL:https://harvestca.duckdns.org/event/womans-meeting-1000am-123/
LOCATION:Main Campus\, 227 S Main St\, Myrtle Creek\, OR\, 97457\, United States
CATEGORIES:Woman’s Meeting
END:VEVENT
BEGIN:VEVENT
DTSTART;TZID=America/Los_Angeles:20241113T180000
DTEND;TZID=America/Los_Angeles:20241113T193000
DTSTAMP:20260425T213601
CREATED:20231009T050342Z
LAST-MODIFIED:20240707T160026Z
UID:3556-1731520800-1731526200@harvestca.duckdns.org
SUMMARY:Mid Week Service 6:00pm
DESCRIPTION:
URL:https://harvestca.duckdns.org/event/mid-week-service-600pm-123/
LOCATION:Main Campus\, 227 S Main St\, Myrtle Creek\, OR\, 97457\, United States
CATEGORIES:Mid Week Service
END:VEVENT
BEGIN:VEVENT
DTSTART;TZID=America/Los_Angeles:20241113T113000
DTEND;TZID=America/Los_Angeles:20241113T130000
DTSTAMP:20260425T213601
CREATED:20240428T160710Z
LAST-MODIFIED:20240428T160710Z
UID:3808-1731497400-1731502800@harvestca.duckdns.org
SUMMARY:Silver Seekers
DESCRIPTION:For those 60 and up. Join us for some food and some exciting events and fellowship.
URL:https://harvestca.duckdns.org/event/silver-seekers-8/
LOCATION:Main Campus\, 227 S Main St\, Myrtle Creek\, OR\, 97457\, United States
CATEGORIES:Silver Seekers
END:VEVENT
BEGIN:VEVENT
DTSTART;TZID=America/Los_Angeles:20241112T190000
DTEND;TZID=America/Los_Angeles:20241112T210000
DTSTAMP:20260425T213601
CREATED:20231009T050342Z
LAST-MODIFIED:20231009T050342Z
UID:3555-1731438000-1731445200@harvestca.duckdns.org
SUMMARY:Grief Share 6:00pm
DESCRIPTION:
URL:https://harvestca.duckdns.org/event/grief-share-600pm-123/
LOCATION:Main Campus\, 227 S Main St\, Myrtle Creek\, OR\, 97457\, United States
CATEGORIES:Grief Share
END:VEVENT
BEGIN:VEVENT
DTSTART;TZID=America/Los_Angeles:20241111T180000
DTEND;TZID=America/Los_Angeles:20241111T193000
DTSTAMP:20260425T213601
CREATED:20240428T161822Z
LAST-MODIFIED:20240428T161822Z
UID:3824-1731348000-1731353400@harvestca.duckdns.org
SUMMARY:Ladies Night Out
DESCRIPTION:Come join us Monday May 13th for a time of fun and fellowship \nBabysitting will be provided.
URL:https://harvestca.duckdns.org/event/ladies-night-out-9/
LOCATION:Main Campus\, 227 S Main St\, Myrtle Creek\, OR\, 97457\, United States
CATEGORIES:Woman’s Meeting
END:VEVENT
BEGIN:VEVENT
DTSTART;TZID=America/Los_Angeles:20241110T180000
DTEND;TZID=America/Los_Angeles:20241110T190000
DTSTAMP:20260425T213601
CREATED:20231009T050330Z
LAST-MODIFIED:20231009T050330Z
UID:3553-1731261600-1731265200@harvestca.duckdns.org
SUMMARY:Sunday Evening Service 6:00pm
DESCRIPTION:Starts at 6:00 PM.
URL:https://harvestca.duckdns.org/event/sunday-evening-service-600pm-122/
LOCATION:Main Campus\, 227 S Main St\, Myrtle Creek\, OR\, 97457\, United States
CATEGORIES:Sunday Eventing Service
END:VEVENT
BEGIN:VEVENT
DTSTART;TZID=America/Los_Angeles:20241110T100000
DTEND;TZID=America/Los_Angeles:20241110T120000
DTSTAMP:20260425T213601
CREATED:20231009T050342Z
LAST-MODIFIED:20231009T050342Z
UID:3554-1731232800-1731240000@harvestca.duckdns.org
SUMMARY:Sunday Service 10:00am
DESCRIPTION:Prayer Room open from 8:30 AM to 9:30 AM. Worship Service starts at 10:00 AM. Second Sunday of the month is Baptism Sunday.
URL:https://harvestca.duckdns.org/event/sunday-service-1000am-123/
LOCATION:Main Campus\, 227 S Main St\, Myrtle Creek\, OR\, 97457\, United States
CATEGORIES:Sunday Service
END:VEVENT
BEGIN:VEVENT
DTSTART;TZID=America/Los_Angeles:20241109T080000
DTEND;TZID=America/Los_Angeles:20241109T100000
DTSTAMP:20260425T213601
CREATED:20231009T050330Z
LAST-MODIFIED:20231009T050330Z
UID:3552-1731139200-1731146400@harvestca.duckdns.org
SUMMARY:Men's Breakfast 8:00am
DESCRIPTION:
URL:https://harvestca.duckdns.org/event/mens-breakfast-800am-29/
LOCATION:Main Campus\, 227 S Main St\, Myrtle Creek\, OR\, 97457\, United States
CATEGORIES:Men’s Meeting
END:VEVENT
BEGIN:VEVENT
DTSTART;TZID=America/Los_Angeles:20241108T183000
DTEND;TZID=America/Los_Angeles:20241108T193000
DTSTAMP:20260425T213601
CREATED:20231009T050330Z
LAST-MODIFIED:20240428T155715Z
UID:3551-1731090600-1731094200@harvestca.duckdns.org
SUMMARY:For Men Only 6:30pm
DESCRIPTION:Men’s Bible Study
URL:https://harvestca.duckdns.org/event/for-men-only-630pm-66/
LOCATION:Main Campus\, 227 S Main St\, Myrtle Creek\, OR\, 97457\, United States
CATEGORIES:Men’s Meeting
END:VEVENT
BEGIN:VEVENT
DTSTART;TZID=America/Los_Angeles:20241107T100000
DTEND;TZID=America/Los_Angeles:20241107T110000
DTSTAMP:20260425T213601
CREATED:20231009T050329Z
LAST-MODIFIED:20231009T050329Z
UID:3550-1730973600-1730977200@harvestca.duckdns.org
SUMMARY:Woman’s Meeting 10:00am
DESCRIPTION:Woman 2 Woman Bible Study
URL:https://harvestca.duckdns.org/event/womans-meeting-1000am-122/
LOCATION:Main Campus\, 227 S Main St\, Myrtle Creek\, OR\, 97457\, United States
CATEGORIES:Woman’s Meeting
END:VEVENT
BEGIN:VEVENT
DTSTART;TZID=America/Los_Angeles:20241106T180000
DTEND;TZID=America/Los_Angeles:20241106T193000
DTSTAMP:20260425T213601
CREATED:20231009T050329Z
LAST-MODIFIED:20240707T160013Z
UID:3549-1730916000-1730921400@harvestca.duckdns.org
SUMMARY:Mid Week Service 6:00pm
DESCRIPTION:
URL:https://harvestca.duckdns.org/event/mid-week-service-600pm-122/
LOCATION:Main Campus\, 227 S Main St\, Myrtle Creek\, OR\, 97457\, United States
CATEGORIES:Mid Week Service
END:VEVENT
BEGIN:VEVENT
DTSTART;TZID=America/Los_Angeles:20241105T190000
DTEND;TZID=America/Los_Angeles:20241105T210000
DTSTAMP:20260425T213601
CREATED:20231009T050315Z
LAST-MODIFIED:20231009T050315Z
UID:3548-1730833200-1730840400@harvestca.duckdns.org
SUMMARY:Grief Share 6:00pm
DESCRIPTION:
URL:https://harvestca.duckdns.org/event/grief-share-600pm-122/
LOCATION:Main Campus\, 227 S Main St\, Myrtle Creek\, OR\, 97457\, United States
CATEGORIES:Grief Share
END:VEVENT
BEGIN:VEVENT
DTSTART;TZID=America/Los_Angeles:20241103T180000
DTEND;TZID=America/Los_Angeles:20241103T190000
DTSTAMP:20260425T213601
CREATED:20231009T050314Z
LAST-MODIFIED:20231009T050314Z
UID:3546-1730656800-1730660400@harvestca.duckdns.org
SUMMARY:Sunday Evening Service 6:00pm
DESCRIPTION:Starts at 6:00 PM.
URL:https://harvestca.duckdns.org/event/sunday-evening-service-600pm-121/
LOCATION:Main Campus\, 227 S Main St\, Myrtle Creek\, OR\, 97457\, United States
CATEGORIES:Sunday Eventing Service
END:VEVENT
BEGIN:VEVENT
DTSTART;TZID=America/Los_Angeles:20241103T100000
DTEND;TZID=America/Los_Angeles:20241103T120000
DTSTAMP:20260425T213601
CREATED:20231009T050315Z
LAST-MODIFIED:20231009T050315Z
UID:3547-1730628000-1730635200@harvestca.duckdns.org
SUMMARY:Sunday Service 10:00am
DESCRIPTION:Prayer Room open from 8:30 AM to 9:30 AM. Worship Service starts at 10:00 AM. First Sunday of the month is Missions Sunday.
URL:https://harvestca.duckdns.org/event/sunday-service-1000am-122/
LOCATION:Main Campus\, 227 S Main St\, Myrtle Creek\, OR\, 97457\, United States
CATEGORIES:Sunday Service
END:VEVENT
BEGIN:VEVENT
DTSTART;TZID=America/Los_Angeles:20241101T183000
DTEND;TZID=America/Los_Angeles:20241101T193000
DTSTAMP:20260425T213601
CREATED:20231009T050314Z
LAST-MODIFIED:20240428T155649Z
UID:3545-1730485800-1730489400@harvestca.duckdns.org
SUMMARY:For Men Only 6:30pm
DESCRIPTION:Men’s Bible Study
URL:https://harvestca.duckdns.org/event/for-men-only-630pm-65/
LOCATION:Main Campus\, 227 S Main St\, Myrtle Creek\, OR\, 97457\, United States
CATEGORIES:Men’s Meeting
END:VEVENT
BEGIN:VEVENT
DTSTART;TZID=America/Los_Angeles:20241031T100000
DTEND;TZID=America/Los_Angeles:20241031T110000
DTSTAMP:20260425T213601
CREATED:20231009T050314Z
LAST-MODIFIED:20231009T050314Z
UID:3544-1730368800-1730372400@harvestca.duckdns.org
SUMMARY:Woman’s Meeting 10:00am
DESCRIPTION:Woman 2 Woman Bible Study
URL:https://harvestca.duckdns.org/event/womans-meeting-1000am-121/
LOCATION:Main Campus\, 227 S Main St\, Myrtle Creek\, OR\, 97457\, United States
CATEGORIES:Woman’s Meeting
END:VEVENT
BEGIN:VEVENT
DTSTART;TZID=America/Los_Angeles:20241030T180000
DTEND;TZID=America/Los_Angeles:20241030T193000
DTSTAMP:20260425T213601
CREATED:20231009T050312Z
LAST-MODIFIED:20240707T160001Z
UID:3543-1730311200-1730316600@harvestca.duckdns.org
SUMMARY:Mid Week Service 6:00pm
DESCRIPTION:
URL:https://harvestca.duckdns.org/event/mid-week-service-600pm-121/
LOCATION:Main Campus\, 227 S Main St\, Myrtle Creek\, OR\, 97457\, United States
CATEGORIES:Mid Week Service
END:VEVENT
BEGIN:VEVENT
DTSTART;TZID=America/Los_Angeles:20241029T190000
DTEND;TZID=America/Los_Angeles:20241029T210000
DTSTAMP:20260425T213601
CREATED:20231009T050312Z
LAST-MODIFIED:20231009T050312Z
UID:3542-1730228400-1730235600@harvestca.duckdns.org
SUMMARY:Grief Share 6:00pm
DESCRIPTION:
URL:https://harvestca.duckdns.org/event/grief-share-600pm-121/
LOCATION:Main Campus\, 227 S Main St\, Myrtle Creek\, OR\, 97457\, United States
CATEGORIES:Grief Share
END:VEVENT
BEGIN:VEVENT
DTSTART;TZID=America/Los_Angeles:20241027T180000
DTEND;TZID=America/Los_Angeles:20241027T190000
DTSTAMP:20260425T213601
CREATED:20231009T050311Z
LAST-MODIFIED:20231009T050311Z
UID:3540-1730052000-1730055600@harvestca.duckdns.org
SUMMARY:Sunday Evening Service 6:00pm
DESCRIPTION:Starts at 6:00 PM.
URL:https://harvestca.duckdns.org/event/sunday-evening-service-600pm-120/
LOCATION:Main Campus\, 227 S Main St\, Myrtle Creek\, OR\, 97457\, United States
CATEGORIES:Sunday Eventing Service
END:VEVENT
BEGIN:VEVENT
DTSTART;TZID=America/Los_Angeles:20241027T100000
DTEND;TZID=America/Los_Angeles:20241027T120000
DTSTAMP:20260425T213601
CREATED:20231009T050311Z
LAST-MODIFIED:20231009T050311Z
UID:3541-1730023200-1730030400@harvestca.duckdns.org
SUMMARY:Sunday Service 10:00am
DESCRIPTION:Prayer Room open from 8:30 AM to 9:30 AM. Worship Service starts at 10:00 AM. Fourth Sunday of the month is Coins for Kids Sunday.
URL:https://harvestca.duckdns.org/event/sunday-service-1000am-121/
LOCATION:Main Campus\, 227 S Main St\, Myrtle Creek\, OR\, 97457\, United States
CATEGORIES:Sunday Service
END:VEVENT
BEGIN:VEVENT
DTSTART;TZID=America/Los_Angeles:20241025T183000
DTEND;TZID=America/Los_Angeles:20241025T193000
DTSTAMP:20260425T213601
CREATED:20231009T050311Z
LAST-MODIFIED:20240428T155628Z
UID:3539-1729881000-1729884600@harvestca.duckdns.org
SUMMARY:For Men Only 6:30pm
DESCRIPTION:Men’s Bible Study
URL:https://harvestca.duckdns.org/event/for-men-only-630pm-64/
LOCATION:Main Campus\, 227 S Main St\, Myrtle Creek\, OR\, 97457\, United States
CATEGORIES:Men’s Meeting
END:VEVENT
BEGIN:VEVENT
DTSTART;TZID=America/Los_Angeles:20241024T100000
DTEND;TZID=America/Los_Angeles:20241024T110000
DTSTAMP:20260425T213601
CREATED:20231009T050258Z
LAST-MODIFIED:20231009T050258Z
UID:3538-1729764000-1729767600@harvestca.duckdns.org
SUMMARY:Woman’s Meeting 10:00am
DESCRIPTION:Woman 2 Woman Bible Study
URL:https://harvestca.duckdns.org/event/womans-meeting-1000am-120/
LOCATION:Main Campus\, 227 S Main St\, Myrtle Creek\, OR\, 97457\, United States
CATEGORIES:Woman’s Meeting
END:VEVENT
BEGIN:VEVENT
DTSTART;TZID=America/Los_Angeles:20241023T180000
DTEND;TZID=America/Los_Angeles:20241023T193000
DTSTAMP:20260425T213601
CREATED:20231009T050258Z
LAST-MODIFIED:20240707T155950Z
UID:3537-1729706400-1729711800@harvestca.duckdns.org
SUMMARY:Mid Week Service 6:00pm
DESCRIPTION:
URL:https://harvestca.duckdns.org/event/mid-week-service-600pm-120/
LOCATION:Main Campus\, 227 S Main St\, Myrtle Creek\, OR\, 97457\, United States
CATEGORIES:Mid Week Service
END:VEVENT
BEGIN:VEVENT
DTSTART;TZID=America/Los_Angeles:20241022T190000
DTEND;TZID=America/Los_Angeles:20241022T210000
DTSTAMP:20260425T213601
CREATED:20231009T050257Z
LAST-MODIFIED:20231009T050257Z
UID:3536-1729623600-1729630800@harvestca.duckdns.org
SUMMARY:Grief Share 6:00pm
DESCRIPTION:
URL:https://harvestca.duckdns.org/event/grief-share-600pm-120/
LOCATION:Main Campus\, 227 S Main St\, Myrtle Creek\, OR\, 97457\, United States
CATEGORIES:Grief Share
END:VEVENT
BEGIN:VEVENT
DTSTART;TZID=America/Los_Angeles:20241020T180000
DTEND;TZID=America/Los_Angeles:20241020T190000
DTSTAMP:20260425T213601
CREATED:20231009T050257Z
LAST-MODIFIED:20231009T050257Z
UID:3534-1729447200-1729450800@harvestca.duckdns.org
SUMMARY:Sunday Evening Service 6:00pm
DESCRIPTION:Starts at 6:00 PM.
URL:https://harvestca.duckdns.org/event/sunday-evening-service-600pm-119/
LOCATION:Main Campus\, 227 S Main St\, Myrtle Creek\, OR\, 97457\, United States
CATEGORIES:Sunday Eventing Service
END:VEVENT
BEGIN:VEVENT
DTSTART;TZID=America/Los_Angeles:20241020T100000
DTEND;TZID=America/Los_Angeles:20241020T120000
DTSTAMP:20260425T213601
CREATED:20231009T050257Z
LAST-MODIFIED:20231009T050257Z
UID:3535-1729418400-1729425600@harvestca.duckdns.org
SUMMARY:Sunday Service 10:00am
DESCRIPTION:Prayer Room open from 8:30 AM to 9:30 AM. Worship Service starts at 10:00 AM. Third Sunday of the month is Communion Sunday.
URL:https://harvestca.duckdns.org/event/sunday-service-1000am-120/
LOCATION:Main Campus\, 227 S Main St\, Myrtle Creek\, OR\, 97457\, United States
CATEGORIES:Sunday Service
END:VEVENT
BEGIN:VEVENT
DTSTART;TZID=America/Los_Angeles:20241018T183000
DTEND;TZID=America/Los_Angeles:20241018T193000
DTSTAMP:20260425T213601
CREATED:20231009T050241Z
LAST-MODIFIED:20240428T155606Z
UID:3533-1729276200-1729279800@harvestca.duckdns.org
SUMMARY:For Men Only 6:30pm
DESCRIPTION:Men’s Bible Study
URL:https://harvestca.duckdns.org/event/for-men-only-630pm-63/
LOCATION:Main Campus\, 227 S Main St\, Myrtle Creek\, OR\, 97457\, United States
CATEGORIES:Men’s Meeting
END:VEVENT
END:VCALENDAR