BEGIN:VCALENDAR
VERSION:2.0
PRODID:-//Harvest Christian Assembly - ECPv6.5.1.5//NONSGML v1.0//EN
CALSCALE:GREGORIAN
METHOD:PUBLISH
X-WR-CALNAME:Harvest Christian Assembly
X-ORIGINAL-URL:https://harvestca.duckdns.org
X-WR-CALDESC:Events for Harvest Christian Assembly
REFRESH-INTERVAL;VALUE=DURATION:PT1H
X-Robots-Tag:noindex
X-PUBLISHED-TTL:PT1H
BEGIN:VTIMEZONE
TZID:America/Los_Angeles
BEGIN:DAYLIGHT
TZOFFSETFROM:-0800
TZOFFSETTO:-0700
TZNAME:PDT
DTSTART:20240310T100000
END:DAYLIGHT
BEGIN:STANDARD
TZOFFSETFROM:-0700
TZOFFSETTO:-0800
TZNAME:PST
DTSTART:20241103T090000
END:STANDARD
END:VTIMEZONE
BEGIN:VEVENT
DTSTART;TZID=America/Los_Angeles:20241210T190000
DTEND;TZID=America/Los_Angeles:20241210T210000
DTSTAMP:20260425T174912
CREATED:20231009T050505Z
LAST-MODIFIED:20231009T050505Z
UID:3579-1733857200-1733864400@harvestca.duckdns.org
SUMMARY:Grief Share 6:00pm
DESCRIPTION:
URL:https://harvestca.duckdns.org/event/grief-share-600pm-127/
LOCATION:Main Campus\, 227 S Main St\, Myrtle Creek\, OR\, 97457\, United States
CATEGORIES:Grief Share
END:VEVENT
BEGIN:VEVENT
DTSTART;TZID=America/Los_Angeles:20241209T180000
DTEND;TZID=America/Los_Angeles:20241209T193000
DTSTAMP:20260425T174912
CREATED:20240428T161857Z
LAST-MODIFIED:20240428T161857Z
UID:3826-1733767200-1733772600@harvestca.duckdns.org
SUMMARY:Ladies Night Out
DESCRIPTION:Come join us Monday May 13th for a time of fun and fellowship \nBabysitting will be provided.
URL:https://harvestca.duckdns.org/event/ladies-night-out-10/
LOCATION:Main Campus\, 227 S Main St\, Myrtle Creek\, OR\, 97457\, United States
CATEGORIES:Woman’s Meeting
END:VEVENT
BEGIN:VEVENT
DTSTART;TZID=America/Los_Angeles:20241208T180000
DTEND;TZID=America/Los_Angeles:20241208T190000
DTSTAMP:20260425T174912
CREATED:20231009T050447Z
LAST-MODIFIED:20231009T050447Z
UID:3577-1733680800-1733684400@harvestca.duckdns.org
SUMMARY:Sunday Evening Service 6:00pm
DESCRIPTION:Starts at 6:00 PM.
URL:https://harvestca.duckdns.org/event/sunday-evening-service-600pm-126/
LOCATION:Main Campus\, 227 S Main St\, Myrtle Creek\, OR\, 97457\, United States
CATEGORIES:Sunday Eventing Service
END:VEVENT
BEGIN:VEVENT
DTSTART;TZID=America/Los_Angeles:20241208T100000
DTEND;TZID=America/Los_Angeles:20241208T120000
DTSTAMP:20260425T174912
CREATED:20231009T050447Z
LAST-MODIFIED:20231009T050447Z
UID:3578-1733652000-1733659200@harvestca.duckdns.org
SUMMARY:Sunday Service 10:00am
DESCRIPTION:Prayer Room open from 8:30 AM to 9:30 AM. Worship Service starts at 10:00 AM. Second Sunday of the month is Baptism Sunday.
URL:https://harvestca.duckdns.org/event/sunday-service-1000am-127/
LOCATION:Main Campus\, 227 S Main St\, Myrtle Creek\, OR\, 97457\, United States
CATEGORIES:Sunday Service
END:VEVENT
BEGIN:VEVENT
DTSTART;TZID=America/Los_Angeles:20241206T183000
DTEND;TZID=America/Los_Angeles:20241206T193000
DTSTAMP:20260425T174912
CREATED:20231009T050447Z
LAST-MODIFIED:20240428T155839Z
UID:3576-1733509800-1733513400@harvestca.duckdns.org
SUMMARY:For Men Only 6:30pm
DESCRIPTION:Men’s Bible Study
URL:https://harvestca.duckdns.org/event/for-men-only-630pm-69/
LOCATION:Main Campus\, 227 S Main St\, Myrtle Creek\, OR\, 97457\, United States
CATEGORIES:Men’s Meeting
END:VEVENT
BEGIN:VEVENT
DTSTART;TZID=America/Los_Angeles:20241205T100000
DTEND;TZID=America/Los_Angeles:20241205T110000
DTSTAMP:20260425T174912
CREATED:20231009T050446Z
LAST-MODIFIED:20231009T050446Z
UID:3575-1733392800-1733396400@harvestca.duckdns.org
SUMMARY:Woman’s Meeting 10:00am
DESCRIPTION:Woman 2 Woman Bible Study
URL:https://harvestca.duckdns.org/event/womans-meeting-1000am-126/
LOCATION:Main Campus\, 227 S Main St\, Myrtle Creek\, OR\, 97457\, United States
CATEGORIES:Woman’s Meeting
END:VEVENT
BEGIN:VEVENT
DTSTART;TZID=America/Los_Angeles:20241204T180000
DTEND;TZID=America/Los_Angeles:20241204T193000
DTSTAMP:20260425T174912
CREATED:20231009T050446Z
LAST-MODIFIED:20240707T160112Z
UID:3574-1733335200-1733340600@harvestca.duckdns.org
SUMMARY:Mid Week Service 6:00pm
DESCRIPTION:
URL:https://harvestca.duckdns.org/event/mid-week-service-600pm-126/
LOCATION:Main Campus\, 227 S Main St\, Myrtle Creek\, OR\, 97457\, United States
CATEGORIES:Mid Week Service
END:VEVENT
BEGIN:VEVENT
DTSTART;TZID=America/Los_Angeles:20241203T190000
DTEND;TZID=America/Los_Angeles:20241203T210000
DTSTAMP:20260425T174912
CREATED:20231009T050428Z
LAST-MODIFIED:20231009T050428Z
UID:3573-1733252400-1733259600@harvestca.duckdns.org
SUMMARY:Grief Share 6:00pm
DESCRIPTION:
URL:https://harvestca.duckdns.org/event/grief-share-600pm-126/
LOCATION:Main Campus\, 227 S Main St\, Myrtle Creek\, OR\, 97457\, United States
CATEGORIES:Grief Share
END:VEVENT
BEGIN:VEVENT
DTSTART;TZID=America/Los_Angeles:20241201T180000
DTEND;TZID=America/Los_Angeles:20241201T190000
DTSTAMP:20260425T174912
CREATED:20231009T050427Z
LAST-MODIFIED:20231009T050427Z
UID:3571-1733076000-1733079600@harvestca.duckdns.org
SUMMARY:Sunday Evening Service 6:00pm
DESCRIPTION:Starts at 6:00 PM.
URL:https://harvestca.duckdns.org/event/sunday-evening-service-600pm-125/
LOCATION:Main Campus\, 227 S Main St\, Myrtle Creek\, OR\, 97457\, United States
CATEGORIES:Sunday Eventing Service
END:VEVENT
BEGIN:VEVENT
DTSTART;TZID=America/Los_Angeles:20241201T100000
DTEND;TZID=America/Los_Angeles:20241201T120000
DTSTAMP:20260425T174912
CREATED:20231009T050428Z
LAST-MODIFIED:20231009T050428Z
UID:3572-1733047200-1733054400@harvestca.duckdns.org
SUMMARY:Sunday Service 10:00am
DESCRIPTION:Prayer Room open from 8:30 AM to 9:30 AM. Worship Service starts at 10:00 AM. First Sunday of the month is Missions Sunday.
URL:https://harvestca.duckdns.org/event/sunday-service-1000am-126/
LOCATION:Main Campus\, 227 S Main St\, Myrtle Creek\, OR\, 97457\, United States
CATEGORIES:Sunday Service
END:VEVENT
BEGIN:VEVENT
DTSTART;TZID=America/Los_Angeles:20241129T190000
DTEND;TZID=America/Los_Angeles:20241129T210000
DTSTAMP:20260425T174912
CREATED:20231009T050427Z
LAST-MODIFIED:20231009T050427Z
UID:3570-1732906800-1732914000@harvestca.duckdns.org
SUMMARY:Family Movie Night 7:00pm
DESCRIPTION:Movie to be announced
URL:https://harvestca.duckdns.org/event/family-movie-night-700pm-11/
LOCATION:Main Campus\, 227 S Main St\, Myrtle Creek\, OR\, 97457\, United States
CATEGORIES:Movie Night
END:VEVENT
BEGIN:VEVENT
DTSTART;TZID=America/Los_Angeles:20241128T100000
DTEND;TZID=America/Los_Angeles:20241128T110000
DTSTAMP:20260425T174912
CREATED:20231009T050426Z
LAST-MODIFIED:20231009T050426Z
UID:3569-1732788000-1732791600@harvestca.duckdns.org
SUMMARY:Woman’s Meeting 10:00am
DESCRIPTION:Woman 2 Woman Bible Study
URL:https://harvestca.duckdns.org/event/womans-meeting-1000am-125/
LOCATION:Main Campus\, 227 S Main St\, Myrtle Creek\, OR\, 97457\, United States
CATEGORIES:Woman’s Meeting
END:VEVENT
BEGIN:VEVENT
DTSTART;TZID=America/Los_Angeles:20241127T180000
DTEND;TZID=America/Los_Angeles:20241127T193000
DTSTAMP:20260425T174912
CREATED:20231009T050408Z
LAST-MODIFIED:20240707T160101Z
UID:3568-1732730400-1732735800@harvestca.duckdns.org
SUMMARY:Mid Week Service 6:00pm
DESCRIPTION:
URL:https://harvestca.duckdns.org/event/mid-week-service-600pm-125/
LOCATION:Main Campus\, 227 S Main St\, Myrtle Creek\, OR\, 97457\, United States
CATEGORIES:Mid Week Service
END:VEVENT
BEGIN:VEVENT
DTSTART;TZID=America/Los_Angeles:20241126T190000
DTEND;TZID=America/Los_Angeles:20241126T210000
DTSTAMP:20260425T174912
CREATED:20231009T050408Z
LAST-MODIFIED:20231009T050408Z
UID:3567-1732647600-1732654800@harvestca.duckdns.org
SUMMARY:Grief Share 6:00pm
DESCRIPTION:
URL:https://harvestca.duckdns.org/event/grief-share-600pm-125/
LOCATION:Main Campus\, 227 S Main St\, Myrtle Creek\, OR\, 97457\, United States
CATEGORIES:Grief Share
END:VEVENT
BEGIN:VEVENT
DTSTART;TZID=America/Los_Angeles:20241124T180000
DTEND;TZID=America/Los_Angeles:20241124T190000
DTSTAMP:20260425T174912
CREATED:20231009T050407Z
LAST-MODIFIED:20231009T050407Z
UID:3565-1732471200-1732474800@harvestca.duckdns.org
SUMMARY:Sunday Evening Service 6:00pm
DESCRIPTION:Starts at 6:00 PM.
URL:https://harvestca.duckdns.org/event/sunday-evening-service-600pm-124/
LOCATION:Main Campus\, 227 S Main St\, Myrtle Creek\, OR\, 97457\, United States
CATEGORIES:Sunday Eventing Service
END:VEVENT
BEGIN:VEVENT
DTSTART;TZID=America/Los_Angeles:20241124T100000
DTEND;TZID=America/Los_Angeles:20241124T120000
DTSTAMP:20260425T174912
CREATED:20231009T050407Z
LAST-MODIFIED:20231009T050407Z
UID:3566-1732442400-1732449600@harvestca.duckdns.org
SUMMARY:Sunday Service 10:00am
DESCRIPTION:Prayer Room open from 8:30 AM to 9:30 AM. Worship Service starts at 10:00 AM. Fourth Sunday of the month is Coins for Kids Sunday.
URL:https://harvestca.duckdns.org/event/sunday-service-1000am-125/
LOCATION:Main Campus\, 227 S Main St\, Myrtle Creek\, OR\, 97457\, United States
CATEGORIES:Sunday Service
END:VEVENT
BEGIN:VEVENT
DTSTART;TZID=America/Los_Angeles:20241122T183000
DTEND;TZID=America/Los_Angeles:20241122T193000
DTSTAMP:20260425T174912
CREATED:20231009T050407Z
LAST-MODIFIED:20240428T155753Z
UID:3564-1732300200-1732303800@harvestca.duckdns.org
SUMMARY:For Men Only 6:30pm
DESCRIPTION:Men’s Bible Study
URL:https://harvestca.duckdns.org/event/for-men-only-630pm-68/
LOCATION:Main Campus\, 227 S Main St\, Myrtle Creek\, OR\, 97457\, United States
CATEGORIES:Men’s Meeting
END:VEVENT
BEGIN:VEVENT
DTSTART;TZID=America/Los_Angeles:20241121T100000
DTEND;TZID=America/Los_Angeles:20241121T110000
DTSTAMP:20260425T174912
CREATED:20231009T050349Z
LAST-MODIFIED:20231009T050349Z
UID:3563-1732183200-1732186800@harvestca.duckdns.org
SUMMARY:Woman’s Meeting 10:00am
DESCRIPTION:Woman 2 Woman Bible Study
URL:https://harvestca.duckdns.org/event/womans-meeting-1000am-124/
LOCATION:Main Campus\, 227 S Main St\, Myrtle Creek\, OR\, 97457\, United States
CATEGORIES:Woman’s Meeting
END:VEVENT
BEGIN:VEVENT
DTSTART;TZID=America/Los_Angeles:20241120T180000
DTEND;TZID=America/Los_Angeles:20241120T193000
DTSTAMP:20260425T174912
CREATED:20231009T050349Z
LAST-MODIFIED:20240707T160048Z
UID:3562-1732125600-1732131000@harvestca.duckdns.org
SUMMARY:Mid Week Service 6:00pm
DESCRIPTION:
URL:https://harvestca.duckdns.org/event/mid-week-service-600pm-124/
LOCATION:Main Campus\, 227 S Main St\, Myrtle Creek\, OR\, 97457\, United States
CATEGORIES:Mid Week Service
END:VEVENT
BEGIN:VEVENT
DTSTART;TZID=America/Los_Angeles:20241119T190000
DTEND;TZID=America/Los_Angeles:20241119T210000
DTSTAMP:20260425T174912
CREATED:20231009T050348Z
LAST-MODIFIED:20231009T050348Z
UID:3561-1732042800-1732050000@harvestca.duckdns.org
SUMMARY:Grief Share 6:00pm
DESCRIPTION:
URL:https://harvestca.duckdns.org/event/grief-share-600pm-124/
LOCATION:Main Campus\, 227 S Main St\, Myrtle Creek\, OR\, 97457\, United States
CATEGORIES:Grief Share
END:VEVENT
BEGIN:VEVENT
DTSTART;TZID=America/Los_Angeles:20241117T180000
DTEND;TZID=America/Los_Angeles:20241117T190000
DTSTAMP:20260425T174912
CREATED:20231009T050348Z
LAST-MODIFIED:20231009T050348Z
UID:3559-1731866400-1731870000@harvestca.duckdns.org
SUMMARY:Sunday Evening Service 6:00pm
DESCRIPTION:Starts at 6:00 PM.
URL:https://harvestca.duckdns.org/event/sunday-evening-service-600pm-123/
LOCATION:Main Campus\, 227 S Main St\, Myrtle Creek\, OR\, 97457\, United States
CATEGORIES:Sunday Eventing Service
END:VEVENT
BEGIN:VEVENT
DTSTART;TZID=America/Los_Angeles:20241117T100000
DTEND;TZID=America/Los_Angeles:20241117T120000
DTSTAMP:20260425T174912
CREATED:20231009T050348Z
LAST-MODIFIED:20231009T050348Z
UID:3560-1731837600-1731844800@harvestca.duckdns.org
SUMMARY:Sunday Service 10:00am
DESCRIPTION:Prayer Room open from 8:30 AM to 9:30 AM. Worship Service starts at 10:00 AM. Third Sunday of the month is Communion Sunday.
URL:https://harvestca.duckdns.org/event/sunday-service-1000am-124/
LOCATION:Main Campus\, 227 S Main St\, Myrtle Creek\, OR\, 97457\, United States
CATEGORIES:Sunday Service
END:VEVENT
BEGIN:VEVENT
DTSTART;TZID=America/Los_Angeles:20241115T183000
DTEND;TZID=America/Los_Angeles:20241115T193000
DTSTAMP:20260425T174912
CREATED:20231009T050343Z
LAST-MODIFIED:20240428T155734Z
UID:3558-1731695400-1731699000@harvestca.duckdns.org
SUMMARY:For Men Only 6:30pm
DESCRIPTION:Men’s Bible Study
URL:https://harvestca.duckdns.org/event/for-men-only-630pm-67/
LOCATION:Main Campus\, 227 S Main St\, Myrtle Creek\, OR\, 97457\, United States
CATEGORIES:Men’s Meeting
END:VEVENT
BEGIN:VEVENT
DTSTART;TZID=America/Los_Angeles:20241114T100000
DTEND;TZID=America/Los_Angeles:20241114T110000
DTSTAMP:20260425T174912
CREATED:20231009T050343Z
LAST-MODIFIED:20231009T050343Z
UID:3557-1731578400-1731582000@harvestca.duckdns.org
SUMMARY:Woman’s Meeting 10:00am
DESCRIPTION:Woman 2 Woman Bible Study
URL:https://harvestca.duckdns.org/event/womans-meeting-1000am-123/
LOCATION:Main Campus\, 227 S Main St\, Myrtle Creek\, OR\, 97457\, United States
CATEGORIES:Woman’s Meeting
END:VEVENT
BEGIN:VEVENT
DTSTART;TZID=America/Los_Angeles:20241113T180000
DTEND;TZID=America/Los_Angeles:20241113T193000
DTSTAMP:20260425T174912
CREATED:20231009T050342Z
LAST-MODIFIED:20240707T160026Z
UID:3556-1731520800-1731526200@harvestca.duckdns.org
SUMMARY:Mid Week Service 6:00pm
DESCRIPTION:
URL:https://harvestca.duckdns.org/event/mid-week-service-600pm-123/
LOCATION:Main Campus\, 227 S Main St\, Myrtle Creek\, OR\, 97457\, United States
CATEGORIES:Mid Week Service
END:VEVENT
BEGIN:VEVENT
DTSTART;TZID=America/Los_Angeles:20241113T113000
DTEND;TZID=America/Los_Angeles:20241113T130000
DTSTAMP:20260425T174912
CREATED:20240428T160710Z
LAST-MODIFIED:20240428T160710Z
UID:3808-1731497400-1731502800@harvestca.duckdns.org
SUMMARY:Silver Seekers
DESCRIPTION:For those 60 and up. Join us for some food and some exciting events and fellowship.
URL:https://harvestca.duckdns.org/event/silver-seekers-8/
LOCATION:Main Campus\, 227 S Main St\, Myrtle Creek\, OR\, 97457\, United States
CATEGORIES:Silver Seekers
END:VEVENT
BEGIN:VEVENT
DTSTART;TZID=America/Los_Angeles:20241112T190000
DTEND;TZID=America/Los_Angeles:20241112T210000
DTSTAMP:20260425T174912
CREATED:20231009T050342Z
LAST-MODIFIED:20231009T050342Z
UID:3555-1731438000-1731445200@harvestca.duckdns.org
SUMMARY:Grief Share 6:00pm
DESCRIPTION:
URL:https://harvestca.duckdns.org/event/grief-share-600pm-123/
LOCATION:Main Campus\, 227 S Main St\, Myrtle Creek\, OR\, 97457\, United States
CATEGORIES:Grief Share
END:VEVENT
BEGIN:VEVENT
DTSTART;TZID=America/Los_Angeles:20241111T180000
DTEND;TZID=America/Los_Angeles:20241111T193000
DTSTAMP:20260425T174912
CREATED:20240428T161822Z
LAST-MODIFIED:20240428T161822Z
UID:3824-1731348000-1731353400@harvestca.duckdns.org
SUMMARY:Ladies Night Out
DESCRIPTION:Come join us Monday May 13th for a time of fun and fellowship \nBabysitting will be provided.
URL:https://harvestca.duckdns.org/event/ladies-night-out-9/
LOCATION:Main Campus\, 227 S Main St\, Myrtle Creek\, OR\, 97457\, United States
CATEGORIES:Woman’s Meeting
END:VEVENT
BEGIN:VEVENT
DTSTART;TZID=America/Los_Angeles:20241110T180000
DTEND;TZID=America/Los_Angeles:20241110T190000
DTSTAMP:20260425T174912
CREATED:20231009T050330Z
LAST-MODIFIED:20231009T050330Z
UID:3553-1731261600-1731265200@harvestca.duckdns.org
SUMMARY:Sunday Evening Service 6:00pm
DESCRIPTION:Starts at 6:00 PM.
URL:https://harvestca.duckdns.org/event/sunday-evening-service-600pm-122/
LOCATION:Main Campus\, 227 S Main St\, Myrtle Creek\, OR\, 97457\, United States
CATEGORIES:Sunday Eventing Service
END:VEVENT
BEGIN:VEVENT
DTSTART;TZID=America/Los_Angeles:20241110T100000
DTEND;TZID=America/Los_Angeles:20241110T120000
DTSTAMP:20260425T174912
CREATED:20231009T050342Z
LAST-MODIFIED:20231009T050342Z
UID:3554-1731232800-1731240000@harvestca.duckdns.org
SUMMARY:Sunday Service 10:00am
DESCRIPTION:Prayer Room open from 8:30 AM to 9:30 AM. Worship Service starts at 10:00 AM. Second Sunday of the month is Baptism Sunday.
URL:https://harvestca.duckdns.org/event/sunday-service-1000am-123/
LOCATION:Main Campus\, 227 S Main St\, Myrtle Creek\, OR\, 97457\, United States
CATEGORIES:Sunday Service
END:VEVENT
END:VCALENDAR